BEGIN:VCALENDAR
VERSION:2.0
PRODID:-//Milestone Churches - ECPv6.15.20//NONSGML v1.0//EN
CALSCALE:GREGORIAN
METHOD:PUBLISH
X-ORIGINAL-URL:https://milestonechurches.com
X-WR-CALDESC:Events for Milestone Churches
REFRESH-INTERVAL;VALUE=DURATION:PT1H
X-Robots-Tag:noindex
X-PUBLISHED-TTL:PT1H
BEGIN:VTIMEZONE
TZID:America/Toronto
BEGIN:DAYLIGHT
TZOFFSETFROM:-0500
TZOFFSETTO:-0400
TZNAME:EDT
DTSTART:20220313T070000
END:DAYLIGHT
BEGIN:STANDARD
TZOFFSETFROM:-0400
TZOFFSETTO:-0500
TZNAME:EST
DTSTART:20221106T060000
END:STANDARD
BEGIN:DAYLIGHT
TZOFFSETFROM:-0500
TZOFFSETTO:-0400
TZNAME:EDT
DTSTART:20230312T070000
END:DAYLIGHT
BEGIN:STANDARD
TZOFFSETFROM:-0400
TZOFFSETTO:-0500
TZNAME:EST
DTSTART:20231105T060000
END:STANDARD
BEGIN:DAYLIGHT
TZOFFSETFROM:-0500
TZOFFSETTO:-0400
TZNAME:EDT
DTSTART:20240310T070000
END:DAYLIGHT
BEGIN:STANDARD
TZOFFSETFROM:-0400
TZOFFSETTO:-0500
TZNAME:EST
DTSTART:20241103T060000
END:STANDARD
END:VTIMEZONE
BEGIN:VEVENT
DTSTART;TZID=America/Toronto:20230514T110000
DTEND;TZID=America/Toronto:20230514T123000
DTSTAMP:20260420T085948
CREATED:20230429T194548Z
LAST-MODIFIED:20230502T030652Z
UID:10000159-1684062000-1684067400@milestonechurches.com
SUMMARY:Celebration Sunday
DESCRIPTION:This Mother’s Day\, we invite your family and friends to worship with us as we come together from all across the GTA for this special Sunday. \n			\n				YouTube Link | 11am
URL:https://milestonechurches.com/event/celebration-sunday-may-14/
LOCATION:Meridian Arts Centre\, 5040 Yonge St\, North York\, Ontario\, M2N 6R8\, Canada
END:VEVENT
BEGIN:VEVENT
DTSTART;TZID=America/Toronto:20230409T110000
DTEND;TZID=America/Toronto:20230409T123000
DTSTAMP:20260420T085948
CREATED:20230326T060958Z
LAST-MODIFIED:20230406T181425Z
UID:10000065-1681038000-1681043400@milestonechurches.com
SUMMARY:Celebration Sunday | Come Find His Power
DESCRIPTION:This Easter Sunday\, invite your family and friends to worship with us as we “Come to Find His Power.” \n			\n				YouTube Link | 11am
URL:https://milestonechurches.com/event/celebration-sunday-april-09/
LOCATION:Meridian Arts Centre\, 5040 Yonge St\, North York\, Ontario\, M2N 6R8\, Canada
END:VEVENT
BEGIN:VEVENT
DTSTART;TZID=America/Toronto:20230408T093000
DTEND;TZID=America/Toronto:20230408T110000
DTSTAMP:20260420T085948
CREATED:20230326T061722Z
LAST-MODIFIED:20230326T062018Z
UID:10000067-1680946200-1680951600@milestonechurches.com
SUMMARY:She Prays | Come Find His Hope
DESCRIPTION:A morning where women come to the foot of the cross for a time of worship and prayer. 
URL:https://milestonechurches.com/event/she-prays-come-find-his-hope/
LOCATION:Milestone Christian Centre\, 610 Monarch Avenue\, Ajax\, Ontario\, L1S 6M4\, Canada
CATEGORIES:Women's Ministry
END:VEVENT
BEGIN:VEVENT
DTSTART;TZID=America/Toronto:20230407T190000
DTEND;TZID=America/Toronto:20230407T200000
DTSTAMP:20260420T085948
CREATED:20230326T061508Z
LAST-MODIFIED:20230406T181502Z
UID:10000066-1680894000-1680897600@milestonechurches.com
SUMMARY:Good Friday | Come Find His Love
DESCRIPTION:Join us on Good Friday for a dramatic evening lead by our worship team. So invite your family and friends and “Come Find His Love” \n			\n				YouTube Link | 7pm
URL:https://milestonechurches.com/event/good-friday-come-find-his-love/
LOCATION:Milestone Christian Centre\, 610 Monarch Avenue\, Ajax\, Ontario\, L1S 6M4\, Canada
END:VEVENT
END:VCALENDAR