BEGIN:VCALENDAR
VERSION:2.0
PRODID:-//Milestone Churches - ECPv6.15.20//NONSGML v1.0//EN
CALSCALE:GREGORIAN
METHOD:PUBLISH
X-ORIGINAL-URL:https://milestonechurches.com
X-WR-CALDESC:Events for Milestone Churches
REFRESH-INTERVAL;VALUE=DURATION:PT1H
X-Robots-Tag:noindex
X-PUBLISHED-TTL:PT1H
BEGIN:VTIMEZONE
TZID:America/Toronto
BEGIN:DAYLIGHT
TZOFFSETFROM:-0500
TZOFFSETTO:-0400
TZNAME:EDT
DTSTART:20230312T070000
END:DAYLIGHT
BEGIN:STANDARD
TZOFFSETFROM:-0400
TZOFFSETTO:-0500
TZNAME:EST
DTSTART:20231105T060000
END:STANDARD
BEGIN:DAYLIGHT
TZOFFSETFROM:-0500
TZOFFSETTO:-0400
TZNAME:EDT
DTSTART:20240310T070000
END:DAYLIGHT
BEGIN:STANDARD
TZOFFSETFROM:-0400
TZOFFSETTO:-0500
TZNAME:EST
DTSTART:20241103T060000
END:STANDARD
BEGIN:DAYLIGHT
TZOFFSETFROM:-0500
TZOFFSETTO:-0400
TZNAME:EDT
DTSTART:20250309T070000
END:DAYLIGHT
BEGIN:STANDARD
TZOFFSETFROM:-0400
TZOFFSETTO:-0500
TZNAME:EST
DTSTART:20251102T060000
END:STANDARD
END:VTIMEZONE
BEGIN:VEVENT
DTSTART;TZID=America/Toronto:20241023T060000
DTEND;TZID=America/Toronto:20241023T070000
DTSTAMP:20260421T083114
CREATED:20241002T024455Z
LAST-MODIFIED:20241023T192643Z
UID:10000952-1729663200-1729666800@milestonechurches.com
SUMMARY:Morning Prayer With The Elders (Online)
DESCRIPTION:A weekly time of morning prayer led by our Elders.\n			\n				Zoom Link - 6am
URL:https://milestonechurches.com/event/morning-prayer-with-the-elders-online-october/2024-10-23/
LOCATION:ON
CATEGORIES:Online
ATTACH;FMTTYPE=image/jpeg:https://milestonechurches.com/wp-content/uploads/2020/05/ELDERSPRAYER.jpg
END:VEVENT
BEGIN:VEVENT
DTSTART;TZID=America/Toronto:20241020T110000
DTEND;TZID=America/Toronto:20241020T130000
DTSTAMP:20260421T083114
CREATED:20240924T102014Z
LAST-MODIFIED:20240924T102014Z
UID:10000923-1729422000-1729429200@milestonechurches.com
SUMMARY:Milestone North York | Worship Service
DESCRIPTION:Join us at Milestone in North York at 11 AM for an immersive worship experience! Engage in heartfelt worship\, inspiring messages\, and a welcoming community. We look forward to seeing you there! \nWe meet in the North York Central Auditorium (5120 Yonge St\, North York)
URL:https://milestonechurches.com/event/milestone-north-york-worship-service-october2024/2024-10-20/
LOCATION:North York Central Auditorium\, 5120 Yonge Street\, North York\, ON\, M2N 5N9\, Canada
CATEGORIES:Milestone North York,Worship Service
ATTACH;FMTTYPE=image/jpeg:https://milestonechurches.com/wp-content/uploads/2024/06/North-York.jpg
END:VEVENT
BEGIN:VEVENT
DTSTART;TZID=America/Toronto:20241020T110000
DTEND;TZID=America/Toronto:20241020T123000
DTSTAMP:20260421T083114
CREATED:20240924T103950Z
LAST-MODIFIED:20241003T204033Z
UID:10000943-1729422000-1729427400@milestonechurches.com
SUMMARY:Sunday Worship Service
DESCRIPTION:This Sunday\, join Milestone and many more as we gather together in person and online for our weekly worship service. \nService starts at 11:00am EST\nJourney Cafe open at 10:30am (Free Coffee and Tea)\n			\n				Live on YouTube | 11am
URL:https://milestonechurches.com/event/sunday-worship-service-oct20/
LOCATION:Milestone Christian Centre\, 610 Monarch Avenue\, Ajax\, Ontario\, L1S 6M4\, Canada
CATEGORIES:Worship Service
ATTACH;FMTTYPE=image/jpeg:https://milestonechurches.com/wp-content/uploads/2024/06/ajax.jpg
END:VEVENT
BEGIN:VEVENT
DTSTART;TZID=America/Toronto:20241020T110000
DTEND;TZID=America/Toronto:20241020T123000
DTSTAMP:20260421T083114
CREATED:20240924T102550Z
LAST-MODIFIED:20241004T011459Z
UID:10000939-1729422000-1729427400@milestonechurches.com
SUMMARY:Milestone Downtown | Worship Service
DESCRIPTION:We’ve added another in person location for those with downtown friends and family. So join us for our immersive worship experience. \nLocation – UofT (OISE) – rm 5170 \n(252 Bloor St W\, Toronto\, ON) \nStart time – 11am
URL:https://milestonechurches.com/event/milestone-downtown-worship-service-sept-oct/2024-10-20/
LOCATION:University of Toronto (O.I.S.E. rm5170)\, 252 Bloor St W\, Toronto\, Canada
CATEGORIES:Milestone Toronto
ATTACH;FMTTYPE=image/jpeg:https://milestonechurches.com/wp-content/uploads/2024/06/toronto.jpg
END:VEVENT
BEGIN:VEVENT
DTSTART;TZID=America/Toronto:20241020T110000
DTEND;TZID=America/Toronto:20241020T123000
DTSTAMP:20260421T083114
CREATED:20240924T102209Z
LAST-MODIFIED:20240924T102209Z
UID:10000931-1729422000-1729427400@milestonechurches.com
SUMMARY:Milestone Mississauga | Worship Service
DESCRIPTION:Join us at Milestone in Mississauga at 11 AM for an immersive worship experience! Engage in heartfelt worship\, inspiring messages\, a dynamic children’s program and a welcoming community. We look forward to seeing you there! \nWe meet in the Trudeau Theatre of the HOLIDAY INN & SUITES MISSISSAUGA WEST.
URL:https://milestonechurches.com/event/milestone-mississauga-worship-service-3/2024-10-20/
LOCATION:HOLIDAY INN & SUITES MISSISSAUGA WEST\, 2565 Argentia Road\, Mississauga\, ON\, Canada
CATEGORIES:Milestone Mississauga,Worship Service
ATTACH;FMTTYPE=image/jpeg:https://milestonechurches.com/wp-content/uploads/2024/06/mississauga.jpg
ORGANIZER;CN="Milestone Mississauga":MAILTO:stu@milestonechurches.com
END:VEVENT
BEGIN:VEVENT
DTSTART;TZID=America/Toronto:20241020T090000
DTEND;TZID=America/Toronto:20241020T103000
DTSTAMP:20260421T083114
CREATED:20241003T204853Z
LAST-MODIFIED:20241003T204858Z
UID:10000956-1729414800-1729420200@milestonechurches.com
SUMMARY:Berean Class (Online)
DESCRIPTION:Named after devoted disciples in Acts 17:11\, this weekly class is a chance to go deeper in the scriptures. The teaching mode is expository and meant for those looking for more in depth look at topics and passages.\n			\n			\n				\n				\n				\n				\n			\n				\n				\n				\n				\n				\n				\n				Zoom Link | 9:00am
URL:https://milestonechurches.com/event/berean-class-online-october/2024-10-20/
LOCATION:ON
CATEGORIES:Online,Teaching
ATTACH;FMTTYPE=image/jpeg:https://milestonechurches.com/wp-content/uploads/2020/05/BereanTCO.jpg
END:VEVENT
BEGIN:VEVENT
DTSTART;TZID=America/Toronto:20241019T100000
DTEND;TZID=America/Toronto:20241019T113000
DTSTAMP:20260421T083114
CREATED:20241004T011056Z
LAST-MODIFIED:20241004T011159Z
UID:10000962-1729332000-1729337400@milestonechurches.com
SUMMARY:Biblical Parenting: Your Home Is Your Ministry
DESCRIPTION:With the strong influence the world can have on children\, it’s crucial for parents to own their God given charge to raise their children in the instruction of the scriptures. In this class\, you will learn some timeless Biblical wisdom and some practical applications for building the type of home environment that fosters love\, instruction\, fun\, and connection with your children. \nFor Who: Parents with children 0-9 years old \n  \n			\n				Zoom Link | 10:00 am
URL:https://milestonechurches.com/event/biblical-parenting-your-home-is-your-ministry/
LOCATION:ON
ATTACH;FMTTYPE=image/jpeg:https://milestonechurches.com/wp-content/uploads/2024/10/parenting.jpg
END:VEVENT
BEGIN:VEVENT
DTSTART;TZID=America/Toronto:20241018T193000
DTEND;TZID=America/Toronto:20241018T213000
DTSTAMP:20260421T083114
CREATED:20241003T213208Z
LAST-MODIFIED:20241003T213214Z
UID:10000959-1729279800-1729287000@milestonechurches.com
SUMMARY:Teen Ministry Devotional
DESCRIPTION:Weekly gathering of High School students across the GTA.
URL:https://milestonechurches.com/event/teen-ministry-devotional-oct18/
LOCATION:Meadowvale Community Centre (Meeting Room A)\, 6655 Glen Erin Dr\, Mississauga\, L5N 3L4
CATEGORIES:Teens
ATTACH;FMTTYPE=image/jpeg:https://milestonechurches.com/wp-content/uploads/2024/04/youth-april-2024.jpg
END:VEVENT
BEGIN:VEVENT
DTSTART;TZID=America/Toronto:20241016T060000
DTEND;TZID=America/Toronto:20241016T070000
DTSTAMP:20260421T083114
CREATED:20241002T024455Z
LAST-MODIFIED:20241023T192643Z
UID:10000951-1729058400-1729062000@milestonechurches.com
SUMMARY:Morning Prayer With The Elders (Online)
DESCRIPTION:A weekly time of morning prayer led by our Elders.\n			\n				Zoom Link - 6am
URL:https://milestonechurches.com/event/morning-prayer-with-the-elders-online-october/2024-10-16/
LOCATION:ON
CATEGORIES:Online
ATTACH;FMTTYPE=image/jpeg:https://milestonechurches.com/wp-content/uploads/2020/05/ELDERSPRAYER.jpg
END:VEVENT
BEGIN:VEVENT
DTSTART;TZID=America/Toronto:20241013T110000
DTEND;TZID=America/Toronto:20241013T123000
DTSTAMP:20260421T083114
CREATED:20240924T104252Z
LAST-MODIFIED:20241003T204616Z
UID:10000945-1728817200-1728822600@milestonechurches.com
SUMMARY:Celebration Sunday
DESCRIPTION:Join us for a special day of unity\, fellowship\, and worship as Milestone Churches across the Greater Toronto Area come together for Celebration Sunday! This is a wonderful opportunity for us to unite as one body in Christ\, to lift our voices in praise\, and to strengthen our bonds within the community. \nWhether you are a longtime member or new to the faith\, everyone is welcome to come and celebrate our shared faith and mission. Let’s come together to experience the joy of being part of a larger community and to encourage one another in our spiritual journeys. \nWe look forward to celebrating with you and witnessing the amazing ways God will move among us!\n			\n				YouTube Link | 11am
URL:https://milestonechurches.com/event/celebration-sunday-october2024/
LOCATION:Meridian Arts Centre\, 5040 Yonge St\, North York\, Ontario\, M2N 6R8\, Canada
CATEGORIES:Worship Service
ATTACH;FMTTYPE=image/jpeg:https://milestonechurches.com/wp-content/uploads/2024/01/celebration.jpg
END:VEVENT
BEGIN:VEVENT
DTSTART;TZID=America/Toronto:20241009T060000
DTEND;TZID=America/Toronto:20241009T070000
DTSTAMP:20260421T083114
CREATED:20241002T024455Z
LAST-MODIFIED:20241023T192643Z
UID:10000950-1728453600-1728457200@milestonechurches.com
SUMMARY:Morning Prayer With The Elders (Online)
DESCRIPTION:A weekly time of morning prayer led by our Elders.\n			\n				Zoom Link - 6am
URL:https://milestonechurches.com/event/morning-prayer-with-the-elders-online-october/2024-10-09/
LOCATION:ON
CATEGORIES:Online
ATTACH;FMTTYPE=image/jpeg:https://milestonechurches.com/wp-content/uploads/2020/05/ELDERSPRAYER.jpg
END:VEVENT
BEGIN:VEVENT
DTSTART;TZID=America/Toronto:20241006T110000
DTEND;TZID=America/Toronto:20241006T123000
DTSTAMP:20260421T083114
CREATED:20240924T103813Z
LAST-MODIFIED:20241003T203903Z
UID:10000942-1728212400-1728217800@milestonechurches.com
SUMMARY:Sunday Worship Service
DESCRIPTION:This Sunday\, join Milestone and many more as we gather together in person and online for our weekly worship service. \nService starts at 11:00am EST\nJourney Cafe open at 10:30am (Free Coffee and Tea)\n			\n				Live on YouTube | 11am
URL:https://milestonechurches.com/event/sunday-worship-service-oct6/
LOCATION:Milestone Christian Centre\, 610 Monarch Avenue\, Ajax\, Ontario\, L1S 6M4\, Canada
CATEGORIES:Worship Service
ATTACH;FMTTYPE=image/jpeg:https://milestonechurches.com/wp-content/uploads/2024/06/ajax.jpg
END:VEVENT
BEGIN:VEVENT
DTSTART;TZID=America/Toronto:20241006T110000
DTEND;TZID=America/Toronto:20241006T123000
DTSTAMP:20260421T083114
CREATED:20240924T102550Z
LAST-MODIFIED:20241004T011459Z
UID:10000938-1728212400-1728217800@milestonechurches.com
SUMMARY:Milestone Downtown | Worship Service
DESCRIPTION:We’ve added another in person location for those with downtown friends and family. So join us for our immersive worship experience. \nLocation – UofT (OISE) – rm 5170 \n(252 Bloor St W\, Toronto\, ON) \nStart time – 11am
URL:https://milestonechurches.com/event/milestone-downtown-worship-service-sept-oct/2024-10-06/
LOCATION:University of Toronto (O.I.S.E. rm5170)\, 252 Bloor St W\, Toronto\, Canada
CATEGORIES:Milestone Toronto
ATTACH;FMTTYPE=image/jpeg:https://milestonechurches.com/wp-content/uploads/2024/06/toronto.jpg
END:VEVENT
BEGIN:VEVENT
DTSTART;TZID=America/Toronto:20241006T110000
DTEND;TZID=America/Toronto:20241006T123000
DTSTAMP:20260421T083114
CREATED:20240924T102209Z
LAST-MODIFIED:20240924T102209Z
UID:10000930-1728212400-1728217800@milestonechurches.com
SUMMARY:Milestone Mississauga | Worship Service
DESCRIPTION:Join us at Milestone in Mississauga at 11 AM for an immersive worship experience! Engage in heartfelt worship\, inspiring messages\, a dynamic children’s program and a welcoming community. We look forward to seeing you there! \nWe meet in the Trudeau Theatre of the HOLIDAY INN & SUITES MISSISSAUGA WEST.
URL:https://milestonechurches.com/event/milestone-mississauga-worship-service-3/2024-10-06/
LOCATION:HOLIDAY INN & SUITES MISSISSAUGA WEST\, 2565 Argentia Road\, Mississauga\, ON\, Canada
CATEGORIES:Milestone Mississauga,Worship Service
ATTACH;FMTTYPE=image/jpeg:https://milestonechurches.com/wp-content/uploads/2024/06/mississauga.jpg
ORGANIZER;CN="Milestone Mississauga":MAILTO:stu@milestonechurches.com
END:VEVENT
BEGIN:VEVENT
DTSTART;TZID=America/Toronto:20241006T110000
DTEND;TZID=America/Toronto:20241006T123000
DTSTAMP:20260421T083114
CREATED:20240924T102014Z
LAST-MODIFIED:20240924T102014Z
UID:10000922-1728212400-1728217800@milestonechurches.com
SUMMARY:Milestone North York | Worship Service
DESCRIPTION:Join us at Milestone in North York at 11 AM for an immersive worship experience! Engage in heartfelt worship\, inspiring messages\, and a welcoming community. We look forward to seeing you there! \nWe meet in the North York Central Auditorium (5120 Yonge St\, North York)
URL:https://milestonechurches.com/event/milestone-north-york-worship-service-october2024/2024-10-06/
LOCATION:North York Central Auditorium\, 5120 Yonge Street\, North York\, ON\, M2N 5N9\, Canada
CATEGORIES:Milestone North York,Worship Service
ATTACH;FMTTYPE=image/jpeg:https://milestonechurches.com/wp-content/uploads/2024/06/North-York.jpg
END:VEVENT
BEGIN:VEVENT
DTSTART;TZID=America/Toronto:20241006T090000
DTEND;TZID=America/Toronto:20241006T103000
DTSTAMP:20260421T083114
CREATED:20241003T204853Z
LAST-MODIFIED:20241003T204858Z
UID:10000955-1728205200-1728210600@milestonechurches.com
SUMMARY:Berean Class (Online)
DESCRIPTION:Named after devoted disciples in Acts 17:11\, this weekly class is a chance to go deeper in the scriptures. The teaching mode is expository and meant for those looking for more in depth look at topics and passages.\n			\n			\n				\n				\n				\n				\n			\n				\n				\n				\n				\n				\n				\n				Zoom Link | 9:00am
URL:https://milestonechurches.com/event/berean-class-online-october/2024-10-06/
LOCATION:ON
CATEGORIES:Online,Teaching
ATTACH;FMTTYPE=image/jpeg:https://milestonechurches.com/wp-content/uploads/2020/05/BereanTCO.jpg
END:VEVENT
BEGIN:VEVENT
DTSTART;TZID=America/Toronto:20241004T193000
DTEND;TZID=America/Toronto:20241004T213000
DTSTAMP:20260421T083114
CREATED:20241003T212839Z
LAST-MODIFIED:20241003T212932Z
UID:10000958-1728070200-1728077400@milestonechurches.com
SUMMARY:Teen Ministry Devotional
DESCRIPTION:Weekly gathering of High School students across the GTA.
URL:https://milestonechurches.com/event/teen-ministry-devotional-oct4/
LOCATION:Ethennonnhawahstihnen’ Community Recreation Centre and Library (Multi-Purpose Room D)\, 100 Ethennonnhawahstihnen' Ln\, Toronto\, M2K 3C9
CATEGORIES:Teens
ATTACH;FMTTYPE=image/jpeg:https://milestonechurches.com/wp-content/uploads/2024/04/youth-april-2024.jpg
END:VEVENT
BEGIN:VEVENT
DTSTART;TZID=America/Toronto:20241002T060000
DTEND;TZID=America/Toronto:20241002T070000
DTSTAMP:20260421T083114
CREATED:20241002T024455Z
LAST-MODIFIED:20241023T192643Z
UID:10000949-1727848800-1727852400@milestonechurches.com
SUMMARY:Morning Prayer With The Elders (Online)
DESCRIPTION:A weekly time of morning prayer led by our Elders.\n			\n				Zoom Link - 6am
URL:https://milestonechurches.com/event/morning-prayer-with-the-elders-online-october/2024-10-02/
LOCATION:ON
CATEGORIES:Online
ATTACH;FMTTYPE=image/jpeg:https://milestonechurches.com/wp-content/uploads/2020/05/ELDERSPRAYER.jpg
END:VEVENT
BEGIN:VEVENT
DTSTART;TZID=America/Toronto:20240929T110000
DTEND;TZID=America/Toronto:20240929T123000
DTSTAMP:20260421T083114
CREATED:20240924T102550Z
LAST-MODIFIED:20241004T011459Z
UID:10000937-1727607600-1727613000@milestonechurches.com
SUMMARY:Milestone Downtown | Worship Service
DESCRIPTION:We’ve added another in person location for those with downtown friends and family. So join us for our immersive worship experience. \nLocation – UofT (OISE) – rm 5170 \n(252 Bloor St W\, Toronto\, ON) \nStart time – 11am
URL:https://milestonechurches.com/event/milestone-downtown-worship-service-sept-oct/2024-09-29/
LOCATION:University of Toronto (O.I.S.E. rm5170)\, 252 Bloor St W\, Toronto\, Canada
CATEGORIES:Milestone Toronto
ATTACH;FMTTYPE=image/jpeg:https://milestonechurches.com/wp-content/uploads/2024/06/toronto.jpg
END:VEVENT
BEGIN:VEVENT
DTSTART;TZID=America/Toronto:20240929T110000
DTEND;TZID=America/Toronto:20240929T123000
DTSTAMP:20260421T083114
CREATED:20240827T214724Z
LAST-MODIFIED:20240827T214724Z
UID:10000881-1727607600-1727613000@milestonechurches.com
SUMMARY:Milestone North York | Worship Service
DESCRIPTION:Join us at Milestone in North York at 11 AM for an immersive worship experience! Engage in heartfelt worship\, inspiring messages\, and a welcoming community. We look forward to seeing you there! \nWe meet in the North York Central Auditorium (5120 Yonge St\, North York)
URL:https://milestonechurches.com/event/milestone-north-york-worship-service-sept292024/
LOCATION:North York Central Auditorium\, 5120 Yonge Street\, North York\, ON\, M2N 5N9\, Canada
CATEGORIES:Milestone North York,Worship Service
ATTACH;FMTTYPE=image/jpeg:https://milestonechurches.com/wp-content/uploads/2024/06/North-York.jpg
END:VEVENT
BEGIN:VEVENT
DTSTART;TZID=America/Toronto:20240929T110000
DTEND;TZID=America/Toronto:20240929T123000
DTSTAMP:20260421T083114
CREATED:20240827T214117Z
LAST-MODIFIED:20240827T214123Z
UID:10000876-1727607600-1727613000@milestonechurches.com
SUMMARY:Sunday Worship Service
DESCRIPTION:This Sunday\, join Milestone and many more as we gather together in person and online for our weekly worship service. \nService starts at 11:00am EST\nJourney Cafe open at 10:30am (Free Coffee and Tea)\n			\n				Live on YouTube | 11am
URL:https://milestonechurches.com/event/sunday-worship-service-sept292024/
LOCATION:Milestone Christian Centre\, 610 Monarch Avenue\, Ajax\, Ontario\, L1S 6M4\, Canada
CATEGORIES:Worship Service
ATTACH;FMTTYPE=image/jpeg:https://milestonechurches.com/wp-content/uploads/2024/06/ajax.jpg
END:VEVENT
BEGIN:VEVENT
DTSTART;TZID=America/Toronto:20240929T110000
DTEND;TZID=America/Toronto:20240929T123000
DTSTAMP:20260421T083115
CREATED:20240814T170453Z
LAST-MODIFIED:20240830T160725Z
UID:10000909-1727607600-1727613000@milestonechurches.com
SUMMARY:Milestone Mississauga | Worship Service
DESCRIPTION:Join us at Milestone in Mississauga at 11 AM for an immersive worship experience! Engage in heartfelt worship\, inspiring messages\, a dynamic children’s program and a welcoming community. We look forward to seeing you there! \nWe meet in the Trudeau Theatre of the HOLIDAY INN & SUITES MISSISSAUGA WEST.
URL:https://milestonechurches.com/event/milestone-mississauga-worship-service-2/2024-09-29/
LOCATION:HOLIDAY INN & SUITES MISSISSAUGA WEST\, 2565 Argentia Road\, Mississauga\, ON\, Canada
CATEGORIES:Milestone Mississauga,Worship Service
ATTACH;FMTTYPE=image/jpeg:https://milestonechurches.com/wp-content/uploads/2024/06/mississauga.jpg
ORGANIZER;CN="Milestone Mississauga":MAILTO:stu@milestonechurches.com
END:VEVENT
BEGIN:VEVENT
DTSTART;TZID=America/Toronto:20240929T090000
DTEND;TZID=America/Toronto:20240929T103000
DTSTAMP:20260421T083115
CREATED:20240830T144158Z
LAST-MODIFIED:20240830T144212Z
UID:10000889-1727600400-1727605800@milestonechurches.com
SUMMARY:Berean Class (Online)
DESCRIPTION:Named after devoted disciples in Acts 17:11\, this weekly class is a chance to go deeper in the scriptures. The teaching mode is expository and meant for those looking for more in depth look at topics and passages.\n			\n			\n				\n				\n				\n				\n			\n				\n				\n				\n				\n				\n				\n				Zoom Link | 9:00am
URL:https://milestonechurches.com/event/berean-class-online-september2024/2024-09-29/
LOCATION:ON
CATEGORIES:Online,Teaching
ATTACH;FMTTYPE=image/jpeg:https://milestonechurches.com/wp-content/uploads/2020/05/BereanTCO.jpg
END:VEVENT
BEGIN:VEVENT
DTSTART;TZID=America/Toronto:20240928T193000
DTEND;TZID=America/Toronto:20240928T220000
DTSTAMP:20260421T083115
CREATED:20240924T103424Z
LAST-MODIFIED:20240925T171612Z
UID:10000941-1727551800-1727560800@milestonechurches.com
SUMMARY:Youth Revival Night
DESCRIPTION:An evening where teens from across the GTA come together for a time of spiritual revival (worship and prayer)\n			\n				\n				\n				\n				\n				* Milestone is providing transportation for students. Parents/Guardians if registering your child to take the bus please find the location and time details below. We also ask everyone registered to please arrive 15 min before departure.\n			\n				Click Here to Sign Up for Bus\n			\n			\n				\n				\n				\n				\n			\n				\n				\n				\n				\n				\n				\n				\n				\n				\n				\n				Bus Location 1 (Mississauga): Departure Time: 5:30pm\n			\n				\n				\n				\n				\n				\n			\n			\n				\n				\n				\n				\n				\n				\n				\n				\n				\n				Bus Location 2 (North York): Departure Time: 6:15pm 
URL:https://milestonechurches.com/event/youth-revival-night-sept/
LOCATION:Milestone Christian Centre\, 610 Monarch Avenue\, Ajax\, Ontario\, L1S 6M4\, Canada
CATEGORIES:Campus Ministry,Teens
ATTACH;FMTTYPE=image/jpeg:https://milestonechurches.com/wp-content/uploads/2024/09/YouthRevival_Night.jpg
END:VEVENT
BEGIN:VEVENT
DTSTART;TZID=America/Toronto:20240927T193000
DTEND;TZID=America/Toronto:20240927T210000
DTSTAMP:20260421T083115
CREATED:20240924T100952Z
LAST-MODIFIED:20240924T100959Z
UID:10000913-1727465400-1727470800@milestonechurches.com
SUMMARY:Milestone East | Prayer & Praise Night
DESCRIPTION:A time where we gather together in Prayer and Worship with our local communities around the Durham Region \nLocation: Milestone Christian Centre \nTime: 7:30p
URL:https://milestonechurches.com/event/milestone-east-prayer-praise-night-sept2024/
LOCATION:Milestone Christian Centre\, 610 Monarch Avenue\, Ajax\, Ontario\, L1S 6M4\, Canada
ATTACH;FMTTYPE=image/jpeg:https://milestonechurches.com/wp-content/uploads/2023/03/MILESTONE-EAST_REGIONAL.jpg
END:VEVENT
BEGIN:VEVENT
DTSTART;TZID=America/Toronto:20240925T193000
DTEND;TZID=America/Toronto:20240925T210000
DTSTAMP:20260421T083115
CREATED:20240924T101721Z
LAST-MODIFIED:20240924T101728Z
UID:10000918-1727292600-1727298000@milestonechurches.com
SUMMARY:Milestone West | Prayer & Praise Midweek
DESCRIPTION:A time where we gather together in our local communities around the Greater Toronto Area. \nLocation: River Grove Community Centre (Youth Room) \nTime: 7:30p
URL:https://milestonechurches.com/event/milestone-west-prayer-praise-midweek-fall2024/2024-09-25/
LOCATION:River Grove Community Centre\, 5800 River Grove Ave\, Mississauga\, ON\, L5M 4R8\, Canada
ATTACH;FMTTYPE=image/jpeg:https://milestonechurches.com/wp-content/uploads/2023/01/milestone-west.jpg
ORGANIZER;CN="Milestone Mississauga":MAILTO:stu@milestonechurches.com
END:VEVENT
BEGIN:VEVENT
DTSTART;TZID=America/Toronto:20240925T193000
DTEND;TZID=America/Toronto:20240925T210000
DTSTAMP:20260421T083115
CREATED:20240924T100622Z
LAST-MODIFIED:20240924T100629Z
UID:10000911-1727292600-1727298000@milestonechurches.com
SUMMARY:Milestone Central | Prayer & Praise Midweek
DESCRIPTION:Milestone Central will be meeting for our monthly local midweek.  Please note time and location of the meeting \nLocation: North York Memorial Hall \nTime: 7:30pm
URL:https://milestonechurches.com/event/milestone-central-prayer-praise-midweek-sept2024/
LOCATION:North York Memorial Hall\, 5110 Yonge St\, North York\, ON
CATEGORIES:Milestone North York,Milestone Toronto
ATTACH;FMTTYPE=image/jpeg:https://milestonechurches.com/wp-content/uploads/2023/03/central-milestone.jpg
END:VEVENT
BEGIN:VEVENT
DTSTART;TZID=America/Toronto:20240925T060000
DTEND;TZID=America/Toronto:20240925T070000
DTSTAMP:20260421T083115
CREATED:20240827T212207Z
LAST-MODIFIED:20240827T212222Z
UID:10000872-1727244000-1727247600@milestonechurches.com
SUMMARY:Morning Prayer With The Elders (Online)
DESCRIPTION:A weekly time of morning prayer led by our Elders.\n			\n				Zoom Link - 6am
URL:https://milestonechurches.com/event/morning-prayer-with-the-elders-online-sept2024/2024-09-25/
LOCATION:ON
CATEGORIES:Online
ATTACH;FMTTYPE=image/jpeg:https://milestonechurches.com/wp-content/uploads/2020/05/ELDERSPRAYER.jpg
END:VEVENT
BEGIN:VEVENT
DTSTART;TZID=America/Toronto:20240922T110000
DTEND;TZID=America/Toronto:20240922T123000
DTSTAMP:20260421T083115
CREATED:20240830T145259Z
LAST-MODIFIED:20240830T151236Z
UID:10000908-1727002800-1727008200@milestonechurches.com
SUMMARY:Celebration Sunday
DESCRIPTION:Join us for a special day of unity\, fellowship\, and worship as Milestone Churches across the Greater Toronto Area come together for Celebration Sunday! This is a wonderful opportunity for us to unite as one body in Christ\, to lift our voices in praise\, and to strengthen our bonds within the community. \nWhether you are a longtime member or new to the faith\, everyone is welcome to come and celebrate our shared faith and mission. Let’s come together to experience the joy of being part of a larger community and to encourage one another in our spiritual journeys. \nWe look forward to celebrating with you and witnessing the amazing ways God will move among us!\n			\n				YouTube Link | 11am
URL:https://milestonechurches.com/event/celebration-sunday-sept220224/
LOCATION:Meridian Arts Centre\, 5040 Yonge St\, North York\, Ontario\, M2N 6R8\, Canada
CATEGORIES:Worship Service
ATTACH;FMTTYPE=image/jpeg:https://milestonechurches.com/wp-content/uploads/2024/01/celebration.jpg
END:VEVENT
BEGIN:VEVENT
DTSTART;TZID=America/Toronto:20240918T060000
DTEND;TZID=America/Toronto:20240918T070000
DTSTAMP:20260421T083115
CREATED:20240827T212207Z
LAST-MODIFIED:20240827T212222Z
UID:10000871-1726639200-1726642800@milestonechurches.com
SUMMARY:Morning Prayer With The Elders (Online)
DESCRIPTION:A weekly time of morning prayer led by our Elders.\n			\n				Zoom Link - 6am
URL:https://milestonechurches.com/event/morning-prayer-with-the-elders-online-sept2024/2024-09-18/
LOCATION:ON
CATEGORIES:Online
ATTACH;FMTTYPE=image/jpeg:https://milestonechurches.com/wp-content/uploads/2020/05/ELDERSPRAYER.jpg
END:VEVENT
END:VCALENDAR