BEGIN:VCALENDAR
VERSION:2.0
PRODID:-//Milestone Churches - ECPv6.15.20//NONSGML v1.0//EN
CALSCALE:GREGORIAN
METHOD:PUBLISH
X-ORIGINAL-URL:https://milestonechurches.com
X-WR-CALDESC:Events for Milestone Churches
REFRESH-INTERVAL;VALUE=DURATION:PT1H
X-Robots-Tag:noindex
X-PUBLISHED-TTL:PT1H
BEGIN:VTIMEZONE
TZID:America/Toronto
BEGIN:DAYLIGHT
TZOFFSETFROM:-0500
TZOFFSETTO:-0400
TZNAME:EDT
DTSTART:20230312T070000
END:DAYLIGHT
BEGIN:STANDARD
TZOFFSETFROM:-0400
TZOFFSETTO:-0500
TZNAME:EST
DTSTART:20231105T060000
END:STANDARD
BEGIN:DAYLIGHT
TZOFFSETFROM:-0500
TZOFFSETTO:-0400
TZNAME:EDT
DTSTART:20240310T070000
END:DAYLIGHT
BEGIN:STANDARD
TZOFFSETFROM:-0400
TZOFFSETTO:-0500
TZNAME:EST
DTSTART:20241103T060000
END:STANDARD
BEGIN:DAYLIGHT
TZOFFSETFROM:-0500
TZOFFSETTO:-0400
TZNAME:EDT
DTSTART:20250309T070000
END:DAYLIGHT
BEGIN:STANDARD
TZOFFSETFROM:-0400
TZOFFSETTO:-0500
TZNAME:EST
DTSTART:20251102T060000
END:STANDARD
END:VTIMEZONE
BEGIN:VEVENT
DTSTART;TZID=America/Toronto:20240420T120000
DTEND;TZID=America/Toronto:20240420T160000
DTSTAMP:20260421T043957
CREATED:20240409T044615Z
LAST-MODIFIED:20240409T044836Z
UID:10000658-1713614400-1713628800@milestonechurches.com
SUMMARY:MSM Game Time
DESCRIPTION:An afternoon full of fun for Middle School (Grades 5-8) Students.
URL:https://milestonechurches.com/event/msm-game-time/
LOCATION:Milestone Christian Centre\, 610 Monarch Avenue\, Ajax\, Ontario\, L1S 6M4\, Canada
CATEGORIES:Middle School Events
ATTACH;FMTTYPE=image/jpeg:https://milestonechurches.com/wp-content/uploads/2024/04/Registration-Graphic.jpg
END:VEVENT
BEGIN:VEVENT
DTSTART;TZID=America/Toronto:20240421T090000
DTEND;TZID=America/Toronto:20240421T103000
DTSTAMP:20260421T043957
CREATED:20240402T153251Z
LAST-MODIFIED:20240402T153256Z
UID:10000625-1713690000-1713695400@milestonechurches.com
SUMMARY:Berean Class (Online)
DESCRIPTION:Named after devoted disciples in Acts 17:11\, this weekly class is a chance to go deeper in the scriptures. The teaching mode is expository and meant for those looking for more in depth look at topics and passages.\n			\n			\n				\n				\n				\n				\n			\n				\n				\n				\n				\n				\n				\n				Zoom Link | 9:00am
URL:https://milestonechurches.com/event/berean-class-online-apr24/2024-04-21/
CATEGORIES:Online,Teaching
ATTACH;FMTTYPE=image/jpeg:https://milestonechurches.com/wp-content/uploads/2020/05/BereanTCO.jpg
END:VEVENT
BEGIN:VEVENT
DTSTART;TZID=America/Toronto:20240421T103000
DTEND;TZID=America/Toronto:20240421T123000
DTSTAMP:20260421T043957
CREATED:20240402T160942Z
LAST-MODIFIED:20240402T160947Z
UID:10000656-1713695400-1713702600@milestonechurches.com
SUMMARY:Middle School Ministry Sunday Program
DESCRIPTION:Join us this Sunday as we learn about our amazing God and the incredible life he has in store for us
URL:https://milestonechurches.com/event/middle-school-ministry-sunday-program-apr7/2024-04-21/
LOCATION:Milestone Christian Centre\, 610 Monarch Avenue\, Ajax\, Ontario\, L1S 6M4\, Canada
CATEGORIES:Middle School
ATTACH;FMTTYPE=image/jpeg:https://milestonechurches.com/wp-content/uploads/2023/03/Sunday-Programs-graphic.jpg
ORGANIZER;CN="Middle School Ministry":MAILTO:anthony@milestonechurches.com
END:VEVENT
BEGIN:VEVENT
DTSTART;TZID=America/Toronto:20240421T110000
DTEND;TZID=America/Toronto:20240421T123000
DTSTAMP:20260421T043957
CREATED:20240402T152438Z
LAST-MODIFIED:20240402T152558Z
UID:10000616-1713697200-1713702600@milestonechurches.com
SUMMARY:Sunday Worship Service
DESCRIPTION:This Sunday\, join Milestone and many more as we gather together in person and online for our weekly worship service. \nService starts at 11:00am EST\n(Pre-Service at 10:50am)\n			\n				Live on YouTube | 11am
URL:https://milestonechurches.com/event/sunday-worship-service-apr21/
LOCATION:Milestone Christian Centre\, 610 Monarch Avenue\, Ajax\, Ontario\, L1S 6M4\, Canada
CATEGORIES:Worship Service
ATTACH;FMTTYPE=image/jpeg:https://milestonechurches.com/wp-content/uploads/2023/07/Spring-Small-Groups-Shapes-Pictures-CMG-Template.jpg
END:VEVENT
BEGIN:VEVENT
DTSTART;TZID=America/Toronto:20240421T110000
DTEND;TZID=America/Toronto:20240421T123000
DTSTAMP:20260421T043957
CREATED:20240402T153025Z
LAST-MODIFIED:20240402T153025Z
UID:10000620-1713697200-1713702600@milestonechurches.com
SUMMARY:Milestone West | Worship Service
DESCRIPTION:A time where communities around the Peel Region come together for a worship service and fellowship. \nWe meet in the LC Taylor Room in the second floor of the Mississauga Valley Community Centre.
URL:https://milestonechurches.com/event/milestone-west-worship-service-apr24/2024-04-21/
LOCATION:Mississauga Valley Community Centre\, 1275 Mississauga Valley Blvd\, Mississauga\, Ontario\, L5A 3R8
CATEGORIES:Worship Service
ATTACH;FMTTYPE=image/jpeg:https://milestonechurches.com/wp-content/uploads/2023/01/milestone-west.jpg
ORGANIZER;CN="Milestone Mississauga":MAILTO:stu@milestonechurches.com
END:VEVENT
BEGIN:VEVENT
DTSTART;TZID=America/Toronto:20240424T060000
DTEND;TZID=America/Toronto:20240424T070000
DTSTAMP:20260421T043957
CREATED:20240402T154000Z
LAST-MODIFIED:20240402T154000Z
UID:10000640-1713938400-1713942000@milestonechurches.com
SUMMARY:Morning Prayer With The Elders (Online)
DESCRIPTION:A weekly time of morning prayer led by our Elders.\n			\n				Zoom Link - 6am
URL:https://milestonechurches.com/event/morning-prayer-with-the-elders-online-3/2024-04-24/
CATEGORIES:Online
ATTACH;FMTTYPE=image/jpeg:https://milestonechurches.com/wp-content/uploads/2020/05/ELDERSPRAYER.jpg
END:VEVENT
BEGIN:VEVENT
DTSTART;TZID=America/Toronto:20240424T193000
DTEND;TZID=America/Toronto:20240424T210000
DTSTAMP:20260421T043957
CREATED:20240402T154236Z
LAST-MODIFIED:20240402T154240Z
UID:10000641-1713987000-1713992400@milestonechurches.com
SUMMARY:Milestone West | Prayer & Praise Midweek
DESCRIPTION:A time where we gather together in our local communities around the Greater Toronto Area. \nLocation: River Grove Community Centre (Youth Room) \nTime: 7:30p
URL:https://milestonechurches.com/event/milestone-west-prayer-praise-midweek-apr24/
LOCATION:River Grove Community Centre\, 5800 River Grove Ave\, Mississauga\, ON\, L5M 4R8\, Canada
ATTACH;FMTTYPE=image/jpeg:https://milestonechurches.com/wp-content/uploads/2023/01/milestone-west.jpg
ORGANIZER;CN="Milestone Mississauga":MAILTO:stu@milestonechurches.com
END:VEVENT
BEGIN:VEVENT
DTSTART;TZID=America/Toronto:20240424T193000
DTEND;TZID=America/Toronto:20240424T210000
DTSTAMP:20260421T043957
CREATED:20240402T154331Z
LAST-MODIFIED:20240402T154336Z
UID:10000642-1713987000-1713992400@milestonechurches.com
SUMMARY:Milestone Central | Prayer & Praise Midweek
DESCRIPTION:Milestone Central will be meeting for our monthly local midweek.  Please note time and location of the meeting \nLocation: North York Memorial Hall \nTime: 7:30pm
URL:https://milestonechurches.com/event/milestone-central-prayer-praise-midweek-apr24/
LOCATION:North York Memorial Hall\, 5110 Yonge St\, North York\, ON
ATTACH;FMTTYPE=image/jpeg:https://milestonechurches.com/wp-content/uploads/2023/03/central-milestone.jpg
END:VEVENT
BEGIN:VEVENT
DTSTART;TZID=America/Toronto:20240425T193000
DTEND;TZID=America/Toronto:20240425T203000
DTSTAMP:20260421T043957
CREATED:20240402T153735Z
LAST-MODIFIED:20240402T153735Z
UID:10000633-1714073400-1714077000@milestonechurches.com
SUMMARY:Celebrate Recovery (Online)
DESCRIPTION:At Celebrate Recovery\, participants learn how their past affects their present\, in terms of how others have both positively and negatively impacted our lives\, and how our actions in response to those impacts may have harmed others or ourselves. The ultimate goal is to bring healing and to get to a place where we experience victory over our recurrent struggles\, one day at a time. Contact Phillip or Nathalie at cr@milestonechurches.com for more details. \n			\n				Zoom Link | 7:30pm
URL:https://milestonechurches.com/event/celebrate-recovery-online-3/2024-04-25/
CATEGORIES:Celebrate Recovery
ATTACH;FMTTYPE=image/jpeg:https://milestonechurches.com/wp-content/uploads/2023/03/celebrate-Recovery-2023.jpg
ORGANIZER;CN="Celebrate Recovery":MAILTO:milestonecelebraterecovery@gmail.com
END:VEVENT
BEGIN:VEVENT
DTSTART;TZID=America/Toronto:20240426T193000
DTEND;TZID=America/Toronto:20240426T210000
DTSTAMP:20260421T043957
CREATED:20240402T154711Z
LAST-MODIFIED:20240402T154814Z
UID:10000643-1714159800-1714165200@milestonechurches.com
SUMMARY:Milestone East | Prayer & Praise Night
DESCRIPTION:A time where we gather together in Prayer and Worship with our local communities around the Durham Region \nLocation: Milestone Christian Centre \nTime: 7:30p
URL:https://milestonechurches.com/event/milestone-east-prayer-praise-apr2024/
LOCATION:Milestone Christian Centre\, 610 Monarch Avenue\, Ajax\, Ontario\, L1S 6M4\, Canada
ATTACH;FMTTYPE=image/jpeg:https://milestonechurches.com/wp-content/uploads/2023/03/MILESTONE-EAST_REGIONAL.jpg
END:VEVENT
BEGIN:VEVENT
DTSTART;TZID=America/Toronto:20240427T110000
DTEND;TZID=America/Toronto:20240427T123000
DTSTAMP:20260421T043957
CREATED:20240402T160830Z
LAST-MODIFIED:20240402T160835Z
UID:10000653-1714215600-1714221000@milestonechurches.com
SUMMARY:Character Studies | Middle School Ministry
DESCRIPTION:Character studies are introductory studies to God’s nature\, His character and core aspects of a Christian life. Their purpose is to help the youth or anyone who does them understand the importance of personal relationship with Jesus while highlighting some of His attributes that we ought to imitate. \nThese studies will be conducted on zoom and we are taking all the necessary guidelines to ensure they are 100% safe.  \nTo learn more or to register\, you can click on the button below\n			\n				Sign Up Here
URL:https://milestonechurches.com/event/character-studies-middle-school-ministry-apr27/
CATEGORIES:Middle School Events
ATTACH;FMTTYPE=image/jpeg:https://milestonechurches.com/wp-content/uploads/2024/01/character.jpg
ORGANIZER;CN="Middle School Ministry":MAILTO:anthony@milestonechurches.com
END:VEVENT
BEGIN:VEVENT
DTSTART;TZID=America/Toronto:20240427T193000
DTEND;TZID=America/Toronto:20240427T220000
DTSTAMP:20260421T043957
CREATED:20240424T192342Z
LAST-MODIFIED:20240424T192347Z
UID:10000660-1714246200-1714255200@milestonechurches.com
SUMMARY:Youth Revival Night
DESCRIPTION:An evening where teens from across the GTA come together for a time of spiritual revival (worship and prayer)
URL:https://milestonechurches.com/event/youth-revival-night-2/
LOCATION:Milestone Christian Centre\, 610 Monarch Avenue\, Ajax\, Ontario\, L1S 6M4\, Canada
CATEGORIES:Teens
END:VEVENT
BEGIN:VEVENT
DTSTART;TZID=America/Toronto:20240428T110000
DTEND;TZID=America/Toronto:20240428T123000
DTSTAMP:20260421T043957
CREATED:20240402T152740Z
LAST-MODIFIED:20240402T152822Z
UID:10000617-1714302000-1714307400@milestonechurches.com
SUMMARY:Sunday Worship Service
DESCRIPTION:This Sunday\, join Milestone and many more as we gather together in person and online for our weekly worship service. \nService starts at 11:00am EST\n(Pre-Service at 10:50am)\n			\n				Live on YouTube | 11am
URL:https://milestonechurches.com/event/sunday-worship-service-apr28/
LOCATION:Milestone Christian Centre\, 610 Monarch Avenue\, Ajax\, Ontario\, L1S 6M4\, Canada
CATEGORIES:Worship Service
ATTACH;FMTTYPE=image/jpeg:https://milestonechurches.com/wp-content/uploads/2023/07/Spring-Small-Groups-Shapes-Pictures-CMG-Template.jpg
END:VEVENT
BEGIN:VEVENT
DTSTART;TZID=America/Toronto:20240428T110000
DTEND;TZID=America/Toronto:20240428T123000
DTSTAMP:20260421T043957
CREATED:20240402T153025Z
LAST-MODIFIED:20240402T153025Z
UID:10000621-1714302000-1714307400@milestonechurches.com
SUMMARY:Milestone West | Worship Service
DESCRIPTION:A time where communities around the Peel Region come together for a worship service and fellowship. \nWe meet in the LC Taylor Room in the second floor of the Mississauga Valley Community Centre.
URL:https://milestonechurches.com/event/milestone-west-worship-service-apr24/2024-04-28/
LOCATION:Mississauga Valley Community Centre\, 1275 Mississauga Valley Blvd\, Mississauga\, Ontario\, L5A 3R8
CATEGORIES:Worship Service
ATTACH;FMTTYPE=image/jpeg:https://milestonechurches.com/wp-content/uploads/2023/01/milestone-west.jpg
ORGANIZER;CN="Milestone Mississauga":MAILTO:stu@milestonechurches.com
END:VEVENT
BEGIN:VEVENT
DTSTART;TZID=America/Toronto:20240428T110000
DTEND;TZID=America/Toronto:20240428T123000
DTSTAMP:20260421T043957
CREATED:20240424T192554Z
LAST-MODIFIED:20240424T192558Z
UID:10000661-1714302000-1714307400@milestonechurches.com
SUMMARY:Milestone Campus & Downtown | Worship Service
DESCRIPTION:We’ve added another in person location for those with downtown friends and family. So join us for our immersive worship experience. \nLocation – UofT Sidney Smith Hall 2nd floor room #2102 (100 St.George St. Toronto) \nFellowship Coffee/Tea – 10:30am \nStart time – 11am \n			\n				Step by Step guide to Sidney Smith Hall Room 2102
URL:https://milestonechurches.com/event/milestone-campus-downtown-worship-service-april28/
LOCATION:University of Toronto (Sidney Smith Hall  room #2102)\, 100 St. George Street\, Toronto
END:VEVENT
BEGIN:VEVENT
DTSTART;TZID=America/Toronto:20240501T060000
DTEND;TZID=America/Toronto:20240501T070000
DTSTAMP:20260421T043957
CREATED:20240508T031805Z
LAST-MODIFIED:20240508T031809Z
UID:10000700-1714543200-1714546800@milestonechurches.com
SUMMARY:Morning Prayer With The Elders (Online)
DESCRIPTION:A weekly time of morning prayer led by our Elders.\n			\n				Zoom Link - 6am
URL:https://milestonechurches.com/event/morning-prayer-with-the-elders-online-may2024/2024-05-01/
CATEGORIES:Online
ATTACH;FMTTYPE=image/jpeg:https://milestonechurches.com/wp-content/uploads/2020/05/ELDERSPRAYER.jpg
END:VEVENT
BEGIN:VEVENT
DTSTART;TZID=America/Toronto:20240501T193000
DTEND;TZID=America/Toronto:20240501T210000
DTSTAMP:20260421T043957
CREATED:20240427T192757Z
LAST-MODIFIED:20240427T192757Z
UID:10000680-1714591800-1714597200@milestonechurches.com
SUMMARY:Midweek by Small Groups
DESCRIPTION:A time where we meet in small groups in our local communities.  If you are interested in joining a small group in your area\, EMAIL US TODAY 
URL:https://milestonechurches.com/event/midweek-by-small-groups-3/2024-05-01/
ATTACH;FMTTYPE=image/jpeg:https://milestonechurches.com/wp-content/uploads/2020/07/midweeksmallgroups.jpg
END:VEVENT
BEGIN:VEVENT
DTSTART;TZID=America/Toronto:20240502T193000
DTEND;TZID=America/Toronto:20240502T203000
DTSTAMP:20260421T043957
CREATED:20240501T033004Z
LAST-MODIFIED:20240501T033009Z
UID:10000693-1714678200-1714681800@milestonechurches.com
SUMMARY:Celebrate Recovery (Online)
DESCRIPTION:At Celebrate Recovery\, participants learn how their past affects their present\, in terms of how others have both positively and negatively impacted our lives\, and how our actions in response to those impacts may have harmed others or ourselves. The ultimate goal is to bring healing and to get to a place where we experience victory over our recurrent struggles\, one day at a time. Contact Phillip or Nathalie at cr@milestonechurches.com for more details. \n			\n				Zoom Link | 7:30pm
URL:https://milestonechurches.com/event/celebrate-recovery-online-may/2024-05-02/
CATEGORIES:Celebrate Recovery
ATTACH;FMTTYPE=image/jpeg:https://milestonechurches.com/wp-content/uploads/2023/03/celebrate-Recovery-2023.jpg
ORGANIZER;CN="Celebrate Recovery":MAILTO:milestonecelebraterecovery@gmail.com
END:VEVENT
BEGIN:VEVENT
DTSTART;TZID=America/Toronto:20240503T193000
DTEND;TZID=America/Toronto:20240503T213000
DTSTAMP:20260421T043957
CREATED:20240427T191857Z
LAST-MODIFIED:20240430T141204Z
UID:10000671-1714764600-1714771800@milestonechurches.com
SUMMARY:Teen Ministry Devotional
DESCRIPTION:Weekly gathering of High School students across the GTA.\n			\n				\n				\n				\n				\n				* Milestone is providing transportation for students. Parents/Guardians if registering your child to take the bus please find the location and time details below. We also ask everyone registered to please arrive 15 min before departure.\n			\n			\n				\n				\n				\n				\n			\n				\n				\n				\n				\n				\n				\n				\n				\n				\n				\n				Bus Location 1 (Mississauga): Departure Time: 6:30pm\n			\n				\n				\n				\n				\n				\n			\n			\n				\n				\n				\n				\n				\n				\n				\n				\n				\n				Bus Location 2 (North York): Departure Time: 7:15pm
URL:https://milestonechurches.com/event/teen-ministry-devotional-may3/
LOCATION:Milestone Christian Centre\, 610 Monarch Avenue\, Ajax\, Ontario\, L1S 6M4\, Canada
CATEGORIES:Teens
ATTACH;FMTTYPE=image/jpeg:https://milestonechurches.com/wp-content/uploads/2024/04/youth-april-2024.jpg
END:VEVENT
BEGIN:VEVENT
DTSTART;TZID=America/Toronto:20240505T090000
DTEND;TZID=America/Toronto:20240505T103000
DTSTAMP:20260421T043958
CREATED:20240427T193217Z
LAST-MODIFIED:20240427T193221Z
UID:10000687-1714899600-1714905000@milestonechurches.com
SUMMARY:Berean Class (Online)
DESCRIPTION:Named after devoted disciples in Acts 17:11\, this weekly class is a chance to go deeper in the scriptures. The teaching mode is expository and meant for those looking for more in depth look at topics and passages.\n			\n			\n				\n				\n				\n				\n			\n				\n				\n				\n				\n				\n				\n				Zoom Link | 9:00am
URL:https://milestonechurches.com/event/berean-class-online-may5/
CATEGORIES:Online,Teaching
ATTACH;FMTTYPE=image/jpeg:https://milestonechurches.com/wp-content/uploads/2020/05/BereanTCO.jpg
END:VEVENT
BEGIN:VEVENT
DTSTART;TZID=America/Toronto:20240505T110000
DTEND;TZID=America/Toronto:20240505T123000
DTSTAMP:20260421T043958
CREATED:20240427T190809Z
LAST-MODIFIED:20240427T190809Z
UID:10000665-1714906800-1714912200@milestonechurches.com
SUMMARY:Milestone West | Worship Service
DESCRIPTION:A time where communities around the Peel Region come together for a worship service and fellowship. \nWe meet in the LC Taylor Room in the second floor of the Mississauga Valley Community Centre.
URL:https://milestonechurches.com/event/milestone-west-worship-service-may5/
LOCATION:Mississauga Valley Community Centre\, 1275 Mississauga Valley Blvd\, Mississauga\, Ontario\, L5A 3R8
CATEGORIES:Worship Service
ATTACH;FMTTYPE=image/jpeg:https://milestonechurches.com/wp-content/uploads/2023/01/milestone-west.jpg
ORGANIZER;CN="Milestone Mississauga":MAILTO:stu@milestonechurches.com
END:VEVENT
BEGIN:VEVENT
DTSTART;TZID=America/Toronto:20240505T110000
DTEND;TZID=America/Toronto:20240505T123000
DTSTAMP:20260421T043958
CREATED:20240427T191231Z
LAST-MODIFIED:20240427T191235Z
UID:10000668-1714906800-1714912200@milestonechurches.com
SUMMARY:Sunday Worship Service
DESCRIPTION:This Sunday\, join Milestone and many more as we gather together in person and online for our weekly worship service. \nService starts at 11:00am EST\n(Pre-Service at 10:50am)\n			\n				Live on YouTube | 11am
URL:https://milestonechurches.com/event/sunday-worship-service-may5/
LOCATION:Milestone Christian Centre\, 610 Monarch Avenue\, Ajax\, Ontario\, L1S 6M4\, Canada
CATEGORIES:Worship Service
ATTACH;FMTTYPE=image/jpeg:https://milestonechurches.com/wp-content/uploads/2023/07/Spring-Small-Groups-Shapes-Pictures-CMG-Template.jpg
END:VEVENT
BEGIN:VEVENT
DTSTART;TZID=America/Toronto:20240508T060000
DTEND;TZID=America/Toronto:20240508T070000
DTSTAMP:20260421T043958
CREATED:20240508T031805Z
LAST-MODIFIED:20240508T031809Z
UID:10000704-1715148000-1715151600@milestonechurches.com
SUMMARY:Morning Prayer With The Elders (Online)
DESCRIPTION:A weekly time of morning prayer led by our Elders.\n			\n				Zoom Link - 6am
URL:https://milestonechurches.com/event/morning-prayer-with-the-elders-online-may2024/2024-05-08/
CATEGORIES:Online
ATTACH;FMTTYPE=image/jpeg:https://milestonechurches.com/wp-content/uploads/2020/05/ELDERSPRAYER.jpg
END:VEVENT
BEGIN:VEVENT
DTSTART;TZID=America/Toronto:20240508T193000
DTEND;TZID=America/Toronto:20240508T210000
DTSTAMP:20260421T043958
CREATED:20240427T192757Z
LAST-MODIFIED:20240427T192757Z
UID:10000681-1715196600-1715202000@milestonechurches.com
SUMMARY:Midweek by Small Groups
DESCRIPTION:A time where we meet in small groups in our local communities.  If you are interested in joining a small group in your area\, EMAIL US TODAY 
URL:https://milestonechurches.com/event/midweek-by-small-groups-3/2024-05-08/
ATTACH;FMTTYPE=image/jpeg:https://milestonechurches.com/wp-content/uploads/2020/07/midweeksmallgroups.jpg
END:VEVENT
BEGIN:VEVENT
DTSTART;TZID=America/Toronto:20240509T193000
DTEND;TZID=America/Toronto:20240509T203000
DTSTAMP:20260421T043958
CREATED:20240501T033004Z
LAST-MODIFIED:20240501T033009Z
UID:10000694-1715283000-1715286600@milestonechurches.com
SUMMARY:Celebrate Recovery (Online)
DESCRIPTION:At Celebrate Recovery\, participants learn how their past affects their present\, in terms of how others have both positively and negatively impacted our lives\, and how our actions in response to those impacts may have harmed others or ourselves. The ultimate goal is to bring healing and to get to a place where we experience victory over our recurrent struggles\, one day at a time. Contact Phillip or Nathalie at cr@milestonechurches.com for more details. \n			\n				Zoom Link | 7:30pm
URL:https://milestonechurches.com/event/celebrate-recovery-online-may/2024-05-09/
CATEGORIES:Celebrate Recovery
ATTACH;FMTTYPE=image/jpeg:https://milestonechurches.com/wp-content/uploads/2023/03/celebrate-Recovery-2023.jpg
ORGANIZER;CN="Celebrate Recovery":MAILTO:milestonecelebraterecovery@gmail.com
END:VEVENT
BEGIN:VEVENT
DTSTART;TZID=America/Toronto:20240510T193000
DTEND;TZID=America/Toronto:20240510T213000
DTSTAMP:20260421T043958
CREATED:20240427T191952Z
LAST-MODIFIED:20240507T052257Z
UID:10000672-1715369400-1715376600@milestonechurches.com
SUMMARY:Teen Ministry Devotional
DESCRIPTION:Weekly gathering of High School students across the GTA.\n			\n				\n				\n				\n				\n				* Milestone is providing transportation for students. Parents/Guardians if registering your child to take the bus please find the location and time details below. We also ask everyone registered to please arrive 15 min before departure.\n			\n			\n				\n				\n				\n				\n			\n				\n				\n				\n				\n				\n				\n				\n				\n				\n				\n				Bus Location 1 (Mississauga): Departure Time: 6:30pm\n			\n				\n				\n				\n				\n				\n			\n			\n				\n				\n				\n				\n				\n				\n				\n				\n				\n				Bus Location 2 (North York): Departure Time: 7:15pm
URL:https://milestonechurches.com/event/teen-ministry-devotional-may10/
LOCATION:Milestone Christian Centre\, 610 Monarch Avenue\, Ajax\, Ontario\, L1S 6M4\, Canada
CATEGORIES:Teens
ATTACH;FMTTYPE=image/jpeg:https://milestonechurches.com/wp-content/uploads/2024/04/youth-april-2024.jpg
END:VEVENT
BEGIN:VEVENT
DTSTART;TZID=America/Toronto:20240512T110000
DTEND;TZID=America/Toronto:20240512T123000
DTSTAMP:20260421T043958
CREATED:20240427T191022Z
LAST-MODIFIED:20240507T052000Z
UID:10000667-1715511600-1715517000@milestonechurches.com
SUMMARY:Celebration Sunday
DESCRIPTION:We invite your family and friends for our special immersive worship experience\, where we come together from all across the GTA for this special Sunday. \n			\n				YouTube Link | 11am
URL:https://milestonechurches.com/event/celebration-sunday-may12/
LOCATION:Meridian Arts Centre\, 5040 Yonge St\, North York\, Ontario\, M2N 6R8\, Canada
CATEGORIES:Worship Service
ATTACH;FMTTYPE=image/jpeg:https://milestonechurches.com/wp-content/uploads/2024/01/celebration.jpg
END:VEVENT
BEGIN:VEVENT
DTSTART;TZID=America/Toronto:20240515T060000
DTEND;TZID=America/Toronto:20240515T070000
DTSTAMP:20260421T043958
CREATED:20240508T031805Z
LAST-MODIFIED:20240508T031809Z
UID:10000705-1715752800-1715756400@milestonechurches.com
SUMMARY:Morning Prayer With The Elders (Online)
DESCRIPTION:A weekly time of morning prayer led by our Elders.\n			\n				Zoom Link - 6am
URL:https://milestonechurches.com/event/morning-prayer-with-the-elders-online-may2024/2024-05-15/
CATEGORIES:Online
ATTACH;FMTTYPE=image/jpeg:https://milestonechurches.com/wp-content/uploads/2020/05/ELDERSPRAYER.jpg
END:VEVENT
BEGIN:VEVENT
DTSTART;TZID=America/Toronto:20240515T193000
DTEND;TZID=America/Toronto:20240515T210000
DTSTAMP:20260421T043958
CREATED:20240427T192757Z
LAST-MODIFIED:20240427T192757Z
UID:10000682-1715801400-1715806800@milestonechurches.com
SUMMARY:Midweek by Small Groups
DESCRIPTION:A time where we meet in small groups in our local communities.  If you are interested in joining a small group in your area\, EMAIL US TODAY 
URL:https://milestonechurches.com/event/midweek-by-small-groups-3/2024-05-15/
ATTACH;FMTTYPE=image/jpeg:https://milestonechurches.com/wp-content/uploads/2020/07/midweeksmallgroups.jpg
END:VEVENT
BEGIN:VEVENT
DTSTART;TZID=America/Toronto:20240516T193000
DTEND;TZID=America/Toronto:20240516T203000
DTSTAMP:20260421T043958
CREATED:20240501T033004Z
LAST-MODIFIED:20240501T033009Z
UID:10000695-1715887800-1715891400@milestonechurches.com
SUMMARY:Celebrate Recovery (Online)
DESCRIPTION:At Celebrate Recovery\, participants learn how their past affects their present\, in terms of how others have both positively and negatively impacted our lives\, and how our actions in response to those impacts may have harmed others or ourselves. The ultimate goal is to bring healing and to get to a place where we experience victory over our recurrent struggles\, one day at a time. Contact Phillip or Nathalie at cr@milestonechurches.com for more details. \n			\n				Zoom Link | 7:30pm
URL:https://milestonechurches.com/event/celebrate-recovery-online-may/2024-05-16/
CATEGORIES:Celebrate Recovery
ATTACH;FMTTYPE=image/jpeg:https://milestonechurches.com/wp-content/uploads/2023/03/celebrate-Recovery-2023.jpg
ORGANIZER;CN="Celebrate Recovery":MAILTO:milestonecelebraterecovery@gmail.com
END:VEVENT
END:VCALENDAR