BEGIN:VCALENDAR
VERSION:2.0
PRODID:-//Milestone Churches - ECPv6.15.20//NONSGML v1.0//EN
CALSCALE:GREGORIAN
METHOD:PUBLISH
X-ORIGINAL-URL:https://milestonechurches.com
X-WR-CALDESC:Events for Milestone Churches
REFRESH-INTERVAL;VALUE=DURATION:PT1H
X-Robots-Tag:noindex
X-PUBLISHED-TTL:PT1H
BEGIN:VTIMEZONE
TZID:America/Toronto
BEGIN:DAYLIGHT
TZOFFSETFROM:-0500
TZOFFSETTO:-0400
TZNAME:EDT
DTSTART:20250309T070000
END:DAYLIGHT
BEGIN:STANDARD
TZOFFSETFROM:-0400
TZOFFSETTO:-0500
TZNAME:EST
DTSTART:20251102T060000
END:STANDARD
BEGIN:DAYLIGHT
TZOFFSETFROM:-0500
TZOFFSETTO:-0400
TZNAME:EDT
DTSTART:20260308T070000
END:DAYLIGHT
BEGIN:STANDARD
TZOFFSETFROM:-0400
TZOFFSETTO:-0500
TZNAME:EST
DTSTART:20261101T060000
END:STANDARD
BEGIN:DAYLIGHT
TZOFFSETFROM:-0500
TZOFFSETTO:-0400
TZNAME:EDT
DTSTART:20270314T070000
END:DAYLIGHT
BEGIN:STANDARD
TZOFFSETFROM:-0400
TZOFFSETTO:-0500
TZNAME:EST
DTSTART:20271107T060000
END:STANDARD
END:VTIMEZONE
BEGIN:VEVENT
DTSTART;TZID=America/Toronto:20260329T103000
DTEND;TZID=America/Toronto:20260329T120000
DTSTAMP:20260421T042639
CREATED:20260225T174635Z
LAST-MODIFIED:20260225T174635Z
UID:10001468-1774780200-1774785600@milestonechurches.com
SUMMARY:Milestone Toronto | Worship Service
DESCRIPTION:We’re excited to announce that Milestone Toronto is now meeting at Cineplex Cinemas Empress Walk every Sunday at 10:30 AM. Conveniently located directly above North York Centre Station\, it’s easily accessible by TTC. \nEnjoy *free underground parking* with validation\, and bring the whole family \n*Cineplex Cinemas Empress Walk offers parking validation – up to 3 hours – FREE\, 3rd to 4th hour – $1.00\, Over 4 hours – Regular Rates. Parking entrance is off of Hillcrest Ave\, one block south of Empress Ave.
URL:https://milestonechurches.com/event/milestone-toronto-worship-service-11/2026-03-29/
LOCATION:Cineplex Cinemas Empress Walk\, RioCan Empress\, 3rd Floor\, 5095 Yonge St\, North York\, ON\, M2N 6Z4
CATEGORIES:Milestone Toronto
ATTACH;FMTTYPE=image/png:https://milestonechurches.com/wp-content/uploads/2025/04/Milestone_Toronto_Sunday.png
END:VEVENT
END:VCALENDAR