BEGIN:VCALENDAR
VERSION:2.0
PRODID:-//Milestone Churches - ECPv6.15.20//NONSGML v1.0//EN
CALSCALE:GREGORIAN
METHOD:PUBLISH
X-ORIGINAL-URL:https://milestonechurches.com
X-WR-CALDESC:Events for Milestone Churches
REFRESH-INTERVAL;VALUE=DURATION:PT1H
X-Robots-Tag:noindex
X-PUBLISHED-TTL:PT1H
BEGIN:VTIMEZONE
TZID:America/Toronto
BEGIN:DAYLIGHT
TZOFFSETFROM:-0500
TZOFFSETTO:-0400
TZNAME:EDT
DTSTART:20250309T070000
END:DAYLIGHT
BEGIN:STANDARD
TZOFFSETFROM:-0400
TZOFFSETTO:-0500
TZNAME:EST
DTSTART:20251102T060000
END:STANDARD
BEGIN:DAYLIGHT
TZOFFSETFROM:-0500
TZOFFSETTO:-0400
TZNAME:EDT
DTSTART:20260308T070000
END:DAYLIGHT
BEGIN:STANDARD
TZOFFSETFROM:-0400
TZOFFSETTO:-0500
TZNAME:EST
DTSTART:20261101T060000
END:STANDARD
BEGIN:DAYLIGHT
TZOFFSETFROM:-0500
TZOFFSETTO:-0400
TZNAME:EDT
DTSTART:20270314T070000
END:DAYLIGHT
BEGIN:STANDARD
TZOFFSETFROM:-0400
TZOFFSETTO:-0500
TZNAME:EST
DTSTART:20271107T060000
END:STANDARD
END:VTIMEZONE
BEGIN:VEVENT
DTSTART;VALUE=DATE:20260227
DTEND;VALUE=DATE:20260302
DTSTAMP:20260420T071207
CREATED:20260116T234602Z
LAST-MODIFIED:20260121T175246Z
UID:10001417-1772150400-1772409599@milestonechurches.com
SUMMARY:Love That Leads | 2026 Marriage Retreat
DESCRIPTION:Register Today\n			\n			\n				\n				\n				\n				\n			\n				\n				\n				\n				\n				\n				\n				\n				\n				\n				\n				The way you love each other speaks louder than you think. \n			\n				\n				\n				\n				\n				Most of the time\, “leading” feels like a heavy word: more responsibility\, more pressure\, more to manage. But in a a godly marriage\, leading starts with something much softer: it starts with being led. It starts with stepping away from the rush to let God refresh your own heart first. It starts with allowing God to lead you. \nYour marriage is more than just a private story. It is a light in a world that is often cynical about lifelong love. The way you forgive\, the way you play\, and the way you navigate the hard seasons together becomes a roadmap for your kids\, your neighbours\, and your friends. When your marriage thrives\, it naturally points people toward the heart of Jesus. \nLove That Leads is a weekend designed to help you reconnect and catch your breath. We’re moving past the “logistics” of life to focus on the “soul” of your relationship. \nCome for the rest. Leave with a renewed vision. Let’s build a marriage that doesn’t just survive\, but one that leads the way for others \n			\n			\n				\n				\n				\n				\n			\n				\n				\n				\n				\n				\n				\n				\n				\n				\n				\n				Registration Details: \n			\n				\n				\n				\n				\n				\nA non-refundable deposit of $100 is required to reserve your spot.\nIf you’re paying the deposit only\, full payment is due by Feb. 15th to secure your registration.\nEarly Bird registration: Jan 16 – Feb 1 — $250/couple\nRegular registration: Feb 2 – Feb 15 — $280/couple\nLate registration: Feb 16 – Feb 22 —  $310/couple\n\nPlease note: All payments are final. There will be no refunds for cancellations. If unable to attend\, please consider donating your registration to a friend. Upon registering\, you will receive a confirmation email with additional details\, including how to book your hotel stay at a discounted group rate of ($119/night) \n			\n			\n				\n				\n				\n				\n			\n				\n				\n				\n				\n				\n				\n				Register Today
URL:https://milestonechurches.com/event/love-that-leads-2026-marriage-retreat/
LOCATION:Holiday Inn Burlington Conference Centre\, 3063 S Service Rd\, Burlington\, ON\, L7N 3E9
CATEGORIES:Marriage
ATTACH;FMTTYPE=image/png:https://milestonechurches.com/wp-content/uploads/2026/01/Love-That-Leads-_-Edit.png
END:VEVENT
END:VCALENDAR