BEGIN:VCALENDAR
VERSION:2.0
PRODID:-//Milestone Churches - ECPv6.15.20//NONSGML v1.0//EN
CALSCALE:GREGORIAN
METHOD:PUBLISH
X-WR-CALNAME:Milestone Churches
X-ORIGINAL-URL:https://milestonechurches.com
X-WR-CALDESC:Events for Milestone Churches
REFRESH-INTERVAL;VALUE=DURATION:PT1H
X-Robots-Tag:noindex
X-PUBLISHED-TTL:PT1H
BEGIN:VTIMEZONE
TZID:America/Toronto
BEGIN:DAYLIGHT
TZOFFSETFROM:-0500
TZOFFSETTO:-0400
TZNAME:EDT
DTSTART:20220313T070000
END:DAYLIGHT
BEGIN:STANDARD
TZOFFSETFROM:-0400
TZOFFSETTO:-0500
TZNAME:EST
DTSTART:20221106T060000
END:STANDARD
BEGIN:DAYLIGHT
TZOFFSETFROM:-0500
TZOFFSETTO:-0400
TZNAME:EDT
DTSTART:20230312T070000
END:DAYLIGHT
BEGIN:STANDARD
TZOFFSETFROM:-0400
TZOFFSETTO:-0500
TZNAME:EST
DTSTART:20231105T060000
END:STANDARD
BEGIN:DAYLIGHT
TZOFFSETFROM:-0500
TZOFFSETTO:-0400
TZNAME:EDT
DTSTART:20240310T070000
END:DAYLIGHT
BEGIN:STANDARD
TZOFFSETFROM:-0400
TZOFFSETTO:-0500
TZNAME:EST
DTSTART:20241103T060000
END:STANDARD
BEGIN:DAYLIGHT
TZOFFSETFROM:-0500
TZOFFSETTO:-0400
TZNAME:EDT
DTSTART:20250309T070000
END:DAYLIGHT
BEGIN:STANDARD
TZOFFSETFROM:-0400
TZOFFSETTO:-0500
TZNAME:EST
DTSTART:20251102T060000
END:STANDARD
END:VTIMEZONE
BEGIN:VEVENT
DTSTART;TZID=America/Toronto:20240807T193000
DTEND;TZID=America/Toronto:20240807T203000
DTSTAMP:20260420T120647
CREATED:20240719T185520Z
LAST-MODIFIED:20240719T193808Z
UID:10000816-1723059000-1723062600@milestonechurches.com
SUMMARY:Taboo Topics: Congregational Midweek
DESCRIPTION:Join us for a congregational midweek via Zoom with Dr. Scott Warlow\, where we will delve into some of the most taboo topics within the church. Dr. Warlow\, a teacher at Milestone\, will guide us through a candid discussion on subjects often left unspoken in religious communities. These midweeks promises to be a thought-provoking exploration of faith\, belief\, and the challenges faced by modern christians. Don’t miss this opportunity to engage with Dr. Warlow and gain new perspectives on these critical issues.\n			\n				Zoom Link - 7:30pm
URL:https://milestonechurches.com/event/taboo-topics-congregational-midweek/2024-08-07/
CATEGORIES:Bible Study,Online
ATTACH;FMTTYPE=image/jpeg:https://milestonechurches.com/wp-content/uploads/2024/07/Taboo-Topics.jpg
END:VEVENT
BEGIN:VEVENT
DTSTART;TZID=America/Toronto:20240731T193000
DTEND;TZID=America/Toronto:20240731T203000
DTSTAMP:20260420T120647
CREATED:20240719T185520Z
LAST-MODIFIED:20240719T193808Z
UID:10000815-1722454200-1722457800@milestonechurches.com
SUMMARY:Taboo Topics: Congregational Midweek
DESCRIPTION:Join us for a congregational midweek via Zoom with Dr. Scott Warlow\, where we will delve into some of the most taboo topics within the church. Dr. Warlow\, a teacher at Milestone\, will guide us through a candid discussion on subjects often left unspoken in religious communities. These midweeks promises to be a thought-provoking exploration of faith\, belief\, and the challenges faced by modern christians. Don’t miss this opportunity to engage with Dr. Warlow and gain new perspectives on these critical issues.\n			\n				Zoom Link - 7:30pm
URL:https://milestonechurches.com/event/taboo-topics-congregational-midweek/2024-07-31/
CATEGORIES:Bible Study,Online
ATTACH;FMTTYPE=image/jpeg:https://milestonechurches.com/wp-content/uploads/2024/07/Taboo-Topics.jpg
END:VEVENT
BEGIN:VEVENT
DTSTART;TZID=America/Toronto:20240724T193000
DTEND;TZID=America/Toronto:20240724T203000
DTSTAMP:20260420T120647
CREATED:20240719T185520Z
LAST-MODIFIED:20240719T193808Z
UID:10000814-1721849400-1721853000@milestonechurches.com
SUMMARY:Taboo Topics: Congregational Midweek
DESCRIPTION:Join us for a congregational midweek via Zoom with Dr. Scott Warlow\, where we will delve into some of the most taboo topics within the church. Dr. Warlow\, a teacher at Milestone\, will guide us through a candid discussion on subjects often left unspoken in religious communities. These midweeks promises to be a thought-provoking exploration of faith\, belief\, and the challenges faced by modern christians. Don’t miss this opportunity to engage with Dr. Warlow and gain new perspectives on these critical issues.\n			\n				Zoom Link - 7:30pm
URL:https://milestonechurches.com/event/taboo-topics-congregational-midweek/2024-07-24/
CATEGORIES:Bible Study,Online
ATTACH;FMTTYPE=image/jpeg:https://milestonechurches.com/wp-content/uploads/2024/07/Taboo-Topics.jpg
END:VEVENT
BEGIN:VEVENT
DTSTART;TZID=America/Toronto:20230312T090000
DTEND;TZID=America/Toronto:20230312T103000
DTSTAMP:20260420T120647
CREATED:20230301T050452Z
LAST-MODIFIED:20230307T050018Z
UID:10000030-1678611600-1678617000@milestonechurches.com
SUMMARY:Berean Class (Online)
DESCRIPTION:Named after devoted disciples in Acts 17:11\, this weekly class is a chance to go deeper in the scriptures. The teaching mode is expository and meant for those looking for more in depth look at topics and passages. \n			\n				Zoom Link | 9:00am
URL:https://milestonechurches.com/event/berean-class-online-2023-03-12/
CATEGORIES:Bible Study,Teaching
ATTACH;FMTTYPE=image/jpeg:https://milestonechurches.com/wp-content/uploads/2020/05/BereanTCO.jpg
END:VEVENT
END:VCALENDAR